BEGIN:VCALENDAR
VERSION:2.0
PRODID:-//Beach Funatic - ECPv5.9.2//NONSGML v1.0//EN
CALSCALE:GREGORIAN
METHOD:PUBLISH
X-WR-CALNAME:Beach Funatic
X-ORIGINAL-URL:https://www.beachfunatic.com
X-WR-CALDESC:Events for Beach Funatic
BEGIN:VTIMEZONE
TZID:UTC
BEGIN:STANDARD
TZOFFSETFROM:+0000
TZOFFSETTO:+0000
TZNAME:UTC
DTSTART:20160101T000000
END:STANDARD
END:VTIMEZONE
BEGIN:VEVENT
DTSTART;TZID=UTC:20160710T160000
DTEND;TZID=UTC:20160710T170000
DTSTAMP:20260420T234914
CREATED:20160705T020852Z
LAST-MODIFIED:20160705T020852Z
UID:4133-1468166400-1468170000@www.beachfunatic.com
SUMMARY:Fun with Bubbles 4-5
DESCRIPTION:Experiment with our bubble selection.
URL:https://www.beachfunatic.com/event/fun-with-bubbles-4-5/
LOCATION:Beach Funatic\, 2 Railroad Avenue\, York Beach\, ME\, 03910\, United States
ATTACH;FMTTYPE=image/jpeg:https://www.beachfunatic.com/wp-content/uploads/2016/06/bubbles.jpe
END:VEVENT
END:VCALENDAR