BEGIN:VCALENDAR
VERSION:2.0
PRODID:-//Beach Funatic - ECPv5.9.2//NONSGML v1.0//EN
CALSCALE:GREGORIAN
METHOD:PUBLISH
X-WR-CALNAME:Beach Funatic
X-ORIGINAL-URL:https://www.beachfunatic.com
X-WR-CALDESC:Events for Beach Funatic
BEGIN:VTIMEZONE
TZID:UTC
BEGIN:STANDARD
TZOFFSETFROM:+0000
TZOFFSETTO:+0000
TZNAME:UTC
DTSTART:20160101T000000
END:STANDARD
END:VTIMEZONE
BEGIN:VEVENT
DTSTART;TZID=UTC:20160712T180000
DTEND;TZID=UTC:20160712T190000
DTSTAMP:20260420T235648
CREATED:20160705T021622Z
LAST-MODIFIED:20160705T021622Z
UID:4136-1468346400-1468350000@www.beachfunatic.com
SUMMARY:Glitter Tattoos 6-7
DESCRIPTION:Our glitter tattoos are waterproof\, dermatologist tested\, and last up to 7 days.
URL:https://www.beachfunatic.com/event/glitter-tattoos-6-7-9/
LOCATION:Beach Funatic\, 2 Railroad Avenue\, York Beach\, ME\, 03910\, United States
ATTACH;FMTTYPE=image/jpeg:https://www.beachfunatic.com/wp-content/uploads/2015/08/IMG_1503-e1438526524974.jpg
END:VEVENT
END:VCALENDAR