BEGIN:VCALENDAR
VERSION:2.0
PRODID:-//Beach Funatic - ECPv5.9.2//NONSGML v1.0//EN
CALSCALE:GREGORIAN
METHOD:PUBLISH
X-WR-CALNAME:Beach Funatic
X-ORIGINAL-URL:https://www.beachfunatic.com
X-WR-CALDESC:Events for Beach Funatic
BEGIN:VTIMEZONE
TZID:UTC
BEGIN:STANDARD
TZOFFSETFROM:+0000
TZOFFSETTO:+0000
TZNAME:UTC
DTSTART:20160101T000000
END:STANDARD
END:VTIMEZONE
BEGIN:VEVENT
DTSTART;TZID=UTC:20160708T180000
DTEND;TZID=UTC:20160708T190000
DTSTAMP:20260421T021710
CREATED:20160705T015507Z
LAST-MODIFIED:20160705T015507Z
UID:4130-1468000800-1468004400@www.beachfunatic.com
SUMMARY:Glitter Tattos 6-7
DESCRIPTION:We want to add sparkle to your day… get your glitter tattoo on the porch today! Free!
URL:https://www.beachfunatic.com/event/glitter-tattos-6-7/
LOCATION:Beach Funatic\, 2 Railroad Avenue\, York Beach\, ME\, 03910\, United States
ATTACH;FMTTYPE=image/jpeg:https://www.beachfunatic.com/wp-content/uploads/2016/02/IMG_1499-e1456520222330.jpg
END:VEVENT
END:VCALENDAR