BEGIN:VCALENDAR
VERSION:2.0
PRODID:-//Beach Funatic - ECPv5.9.2//NONSGML v1.0//EN
CALSCALE:GREGORIAN
METHOD:PUBLISH
X-WR-CALNAME:Beach Funatic
X-ORIGINAL-URL:https://www.beachfunatic.com
X-WR-CALDESC:Events for Beach Funatic
BEGIN:VTIMEZONE
TZID:UTC
BEGIN:STANDARD
TZOFFSETFROM:+0000
TZOFFSETTO:+0000
TZNAME:UTC
DTSTART:20160101T000000
END:STANDARD
END:VTIMEZONE
BEGIN:VEVENT
DTSTART;TZID=UTC:20160703T100000
DTEND;TZID=UTC:20160703T220000
DTSTAMP:20260421T101638
CREATED:20160625T183156Z
LAST-MODIFIED:20160625T183933Z
UID:4119-1467540000-1467583200@www.beachfunatic.com
SUMMARY:Sidewalk Chalk Art
DESCRIPTION:Take a spot and express yourself! We will have all the gadgets and gizmos to relax and have some fun with chalk!
URL:https://www.beachfunatic.com/event/sidewalk-chalk-art/
LOCATION:Beach Funatic\, 2 Railroad Avenue\, York Beach\, ME\, 03910\, United States
ATTACH;FMTTYPE=image/jpeg:https://www.beachfunatic.com/wp-content/uploads/2016/06/chalk.jpe
END:VEVENT
END:VCALENDAR