BEGIN:VCALENDAR
VERSION:2.0
PRODID:-//Beach Funatic - ECPv5.9.2//NONSGML v1.0//EN
CALSCALE:GREGORIAN
METHOD:PUBLISH
X-WR-CALNAME:Beach Funatic
X-ORIGINAL-URL:https://www.beachfunatic.com
X-WR-CALDESC:Events for Beach Funatic
BEGIN:VTIMEZONE
TZID:UTC
BEGIN:STANDARD
TZOFFSETFROM:+0000
TZOFFSETTO:+0000
TZNAME:UTC
DTSTART:20160101T000000
END:STANDARD
END:VTIMEZONE
BEGIN:VEVENT
DTSTART;TZID=UTC:20160704T170000
DTEND;TZID=UTC:20160704T190000
DTSTAMP:20260421T090150
CREATED:20160625T183745Z
LAST-MODIFIED:20160625T183745Z
UID:4121-1467651600-1467658800@www.beachfunatic.com
SUMMARY:Tiki Toss Tournament
DESCRIPTION:Come see what all the talk is about on the Beach Funatic porch.  Also known as Ring the Bull\, Tiki Toss is set up on the porch for all our customers to play.  Practice up then come show us what you’ve got! Prizes will be awarded to the winners!
URL:https://www.beachfunatic.com/event/tiki-toss-tournament/
LOCATION:Beach Funatic\, 2 Railroad Avenue\, York Beach\, ME\, 03910\, United States
ATTACH;FMTTYPE=image/jpeg:https://www.beachfunatic.com/wp-content/uploads/2016/02/th31.jpe
END:VEVENT
END:VCALENDAR